BEGIN:VCALENDAR
VERSION:2.0
PRODID:-//hacksw/handcal//NONSGML v1.0//EN
BEGIN:VEVENT
UID:054b5b21d063e995c6a90edf0007e00f
DTSTAMP:20260422T140410Z

DTSTART:20220111T080000
DTEND:20220111T090000
SUMMARY:Silverleaf Elder Medicine Cannabis Seminar - Jan 11
DESCRIPTION:An introduction to the Silverleaf educational program concerning the use of Cannabis and its derivatives in medicine for the elderly.\nAbout this event\nSilverleaf is the educational program created by Holistic Health Group designed to inform the elderly and their caretakers on the effects of Cannabis in patients with various afflictions common in old age.\n\nThe program will in addition explain Massachusetts regulations concerning Caregiving Institutions (935 CMR 500.022) and how hospice and long term care facilities are permitted to create these programs within their business operations.\n\nOnline Attendants can join via Zoom as follows:\n\nhttps://zoom.us/j/94184034190?pwd=VHVQQnkrNDdFZ3VXdUIwYzhiampRZz09\n\nMeeting ID: 941 8403 4190\n\nPasscode: Silverleaf\n\nOne tap mobile\n\n+19292056099,,94184034190#,,,,*5706748989# US (New York)\n\n+13017158592,,94184034190#,,,,*5706748989# US (Washington DC)\n\nDial by your location\n\n+1 929 205 6099 US (New York)\n\n+1 301 715 8592 US (Washington DC)\n\n+1 312 626 6799 US (Chicago)\n\n+1 669 900 6833 US (San Jose)\n\n+1 253 215 8782 US (Tacoma)\n\n+1 346 248 7799 US (Houston)\n\nMeeting ID: 941 8403 4190\n\nPasscode: 5706748989\n\nFind your local number: https://zoom.us/u/adoogx0J44

X-ALT-DESC;FMTTYPE=text/html:<!DOCTYPE HTML PUBLIC "-//W3C//DTD HTML 3.2//EN">\n<HTML>\n<HEAD>\n<META NAME="Generator" CONTENT="MS Exchange Server version 08.00.0681.000">\n<TITLE></TITLE>\n</HEAD>\n<BODY>\n<!-- Converted from text/rtf format -->\n\n<p>An introduction to the Silverleaf educational program concerning the use of Cannabis and its derivatives in medicine for the elderly.<br />About this event<br />Silverleaf is the educational program created by Holistic Health Group designed to inform the elderly and their caretakers on the effects of Cannabis in patients with various afflictions common in old age.<br /><br />The program will in addition explain Massachusetts regulations concerning Caregiving Institutions (935 CMR 500.022) and how hospice and long term care facilities are permitted to create these programs within their business operations.<br /><br />Online Attendants can join via Zoom as follows:<br /><br />https://zoom.us/j/94184034190?pwd=VHVQQnkrNDdFZ3VXdUIwYzhiampRZz09<br /><br />Meeting ID: 941 8403 4190<br /><br />Passcode: Silverleaf<br /><br />One tap mobile<br /><br />+19292056099,,94184034190#,,,,*5706748989# US (New York)<br /><br />+13017158592,,94184034190#,,,,*5706748989# US (Washington DC)<br /><br />Dial by your location<br /><br />+1 929 205 6099 US (New York)<br /><br />+1 301 715 8592 US (Washington DC)<br /><br />+1 312 626 6799 US (Chicago)<br /><br />+1 669 900 6833 US (San Jose)<br /><br />+1 253 215 8782 US (Tacoma)<br /><br />+1 346 248 7799 US (Houston)<br /><br />Meeting ID: 941 8403 4190<br /><br />Passcode: 5706748989<br /><br />Find your local number: https://zoom.us/u/adoogx0J44</p>\n\n</BODY>\n</HTML>

LOCATION:477, Wareham Street, South Middleboro, Middleborough, Plymouth County, Massachusetts, 02346, United States
END:VEVENT

END:VCALENDAR
