BEGIN:VCALENDAR
VERSION:2.0
PRODID:-//hacksw/handcal//NONSGML v1.0//EN
BEGIN:VEVENT
UID:92889c2ce298f8ee510396db31df5b88
DTSTAMP:20260422T140925Z

DTSTART:20220922T100000
DTEND:20220923T170000
SUMMARY:Lucky Leaf Expo Oklahoma City 2022
DESCRIPTION:SEPTEMBER 22-23, 2022\nOklahoma City\nThursday &amp; Friday, 10AM – 5PM\nOklahoma City Convention Center\nWe’re coming to OKC! Join us Oklahoma cannabis events to catch up with cannabis industry experts and businesses. Explore more than 100 exhibitors, hear from a variety of speakers and more at the Lucky Leaf Oklahoma City cannabis business convention and conferences.

X-ALT-DESC;FMTTYPE=text/html:<!DOCTYPE HTML PUBLIC "-//W3C//DTD HTML 3.2//EN">\n<HTML>\n<HEAD>\n<META NAME="Generator" CONTENT="MS Exchange Server version 08.00.0681.000">\n<TITLE></TITLE>\n</HEAD>\n<BODY>\n<!-- Converted from text/rtf format -->\n\n<p>SEPTEMBER 22-23, 2022<br />Oklahoma City<br />Thursday &amp; Friday, 10AM – 5PM<br />Oklahoma City Convention Center<br />We’re coming to OKC! Join us Oklahoma cannabis events to catch up with cannabis industry experts and businesses. Explore more than 100 exhibitors, hear from a variety of speakers and more at the Lucky Leaf Oklahoma City cannabis business convention and conferences.</p>\n\n</BODY>\n</HTML>

LOCATION:Oklahoma City Convention Center, Southwest 4th Street, Oklahoma City, Oklahoma County, Oklahoma, 73109, United States
END:VEVENT

END:VCALENDAR
