BEGIN:VCALENDAR
VERSION:2.0
PRODID:-//hacksw/handcal//NONSGML v1.0//EN
BEGIN:VEVENT
UID:e73f78f471f7fa049c422515fa03011d
DTSTAMP:20260422T140854Z

DTSTART:20220319T100000
DTEND:20220319T190000
SUMMARY:Major Cannabis Expo 2022
DESCRIPTION:Kansas City's 1st Annual Cannabis Expo!\nAbout this event\nKansas City's 1st annual Major Cannabis Expo will be held at the Hy-Vee Arena - 1800 Genessee St. Kansas City, MO 64102 on Saturday March 19th, 2022! Come out and enjoy over 85,000 square ft of vendors, seminars and activities!

X-ALT-DESC;FMTTYPE=text/html:<!DOCTYPE HTML PUBLIC "-//W3C//DTD HTML 3.2//EN">\n<HTML>\n<HEAD>\n<META NAME="Generator" CONTENT="MS Exchange Server version 08.00.0681.000">\n<TITLE></TITLE>\n</HEAD>\n<BODY>\n<!-- Converted from text/rtf format -->\n\n<p>Kansas City's 1st Annual Cannabis Expo!<br />About this event<br />Kansas City's 1st annual Major Cannabis Expo will be held at the Hy-Vee Arena - 1800 Genessee St. Kansas City, MO 64102 on Saturday March 19th, 2022! Come out and enjoy over 85,000 square ft of vendors, seminars and activities!</p>\n\n</BODY>\n</HTML>

LOCATION:1800, Genessee Street, Kansas City, Jackson County, Missouri, 64102, United States
END:VEVENT

END:VCALENDAR
