BEGIN:VCALENDAR
VERSION:2.0
PRODID:-//hacksw/handcal//NONSGML v1.0//EN
BEGIN:VEVENT
UID:5b2d449d4b83c336102f2b027afd79f5
DTSTAMP:20260422T140359Z

DTSTART:20220826T100000
DTEND:20220827T170000
SUMMARY:CannaCon - Midwest Chicago 2022
DESCRIPTION:\n\nJoin the Ranks Moving the Cannabis Industry Forward\n\n\n\n\n\n \nMedical and recreational marijuana was recently legalized in Illinois, which means there’s no better time than now to attend CannaCon Chicago. As the most influential B2B cannabis conference, CannaCon provides the perfect opportunity to meet with like-minded entrepreneurs, farmers, distributors, equipment specialists and more — gather all the information you need to start your own cannabis business. And while you’re in town, take advantage of a city known for industry and culture. With more than 7,300 restaurants, 600 parks, 29 beaches, and the Chicago Riverwalk, there’s no end to the possibilities. Grab your Chicago CityPASS or Go Chicago Card and gain access to museums, the aquarium and much more. Join us for CannaCon Midwest in Chicago and be among the first to experience the cannabis industry in the “Windy City.”\n\n\n

X-ALT-DESC;FMTTYPE=text/html:<!DOCTYPE HTML PUBLIC "-//W3C//DTD HTML 3.2//EN">\n<HTML>\n<HEAD>\n<META NAME="Generator" CONTENT="MS Exchange Server version 08.00.0681.000">\n<TITLE></TITLE>\n</HEAD>\n<BODY>\n<!-- Converted from text/rtf format -->\n\n<div data-node="5fb806e29896d"><br /><div><br /><h2>Join the Ranks Moving the Cannabis Industry Forward</h2><br /></div><br /></div><br /><div data-node="5fb806e29896f"><br /><div><br /><div><br /><p> </p><br /><div>Medical and recreational marijuana was recently legalized in Illinois, which means there’s no better time than now to attend CannaCon Chicago. As the most influential B2B cannabis conference, CannaCon provides the perfect opportunity to meet with like-minded entrepreneurs, farmers, distributors, equipment specialists and more — gather all the information you need to start your own cannabis business. And while you’re in town, take advantage of a city known for industry and culture. With more than 7,300 restaurants, 600 parks, 29 beaches, and the Chicago Riverwalk, there’s no end to the possibilities. Grab your Chicago CityPASS or Go Chicago Card and gain access to museums, the aquarium and much more. Join us for CannaCon Midwest in Chicago and be among the first to experience the cannabis industry in the “Windy City.”</div><br /></div><br /></div><br /></div>\n\n</BODY>\n</HTML>

LOCATION:Donald E. Stephens Convention Center, 5555, North River Road, Rosemont, Leyden Township, Cook County, Illinois, 60018, United States
END:VEVENT

END:VCALENDAR
