BEGIN:VCALENDAR
VERSION:2.0
PRODID:-//hacksw/handcal//NONSGML v1.0//EN
BEGIN:VEVENT
UID:748e0ef7e379d68a41a9e9513770fef4
DTSTAMP:20260424T053248Z

DTSTART:20220610T100000
DTEND:20220611T160000
SUMMARY:The Illinois Cannabis Convention 2022
DESCRIPTION:\n\nThe only convention focused\nexclusively on the Illinois market!\n \n\n\n\n\nWith the approval of the Illinois Cannabis Regulation and Tax Act in 2019, Illinois became the first state in the U.S. to legalize recreational marijuana sales through legislation rather than voter initiatives. Vermont’s legislature allowed recreational usage but not sales (later legalizing sales after Illinois had already done so). Illinois is estimated to produce between $2 and $4 billion in annual income from recreational sales if it reaches full maturity. Illinois will also expunge an estimated 700,000 marijuana-related police records and court convictions in a staged manner expected to be finished by 2025, making it the first state in the country to do so. Since legalization, Illinois has seen an average monthly revenue of $40 million from recreational cannabis sales. Chicago hosts an impressive 44 cannabis dispensaries as of 2021. NECANN is amped to help bring some of the best in the industry together in one place in the windy city. Click the link below to get your ticket today!\n\n

X-ALT-DESC;FMTTYPE=text/html:<!DOCTYPE HTML PUBLIC "-//W3C//DTD HTML 3.2//EN">\n<HTML>\n<HEAD>\n<META NAME="Generator" CONTENT="MS Exchange Server version 08.00.0681.000">\n<TITLE></TITLE>\n</HEAD>\n<BODY>\n<!-- Converted from text/rtf format -->\n\n<div><br /><div><br /><h2>The only convention focused</h2><br /><h2>exclusively on the Illinois market!</h2><br /><div> </div><br /></div><br /></div><br /><div><br /><div><br /><p>With the approval of the Illinois Cannabis Regulation and Tax Act in 2019, Illinois became the first state in the U.S. to legalize recreational marijuana sales through legislation rather than voter initiatives. Vermont’s legislature allowed recreational usage but not sales (later legalizing sales after Illinois had already done so). Illinois is estimated to produce between $2 and $4 billion in annual income from recreational sales if it reaches full maturity. Illinois will also expunge an estimated 700,000 marijuana-related police records and court convictions in a staged manner expected to be finished by 2025, making it the first state in the country to do so. Since legalization, Illinois has seen an average monthly revenue of $40 million from recreational cannabis sales. Chicago hosts an impressive 44 cannabis dispensaries as of 2021. NECANN is amped to help bring some of the best in the industry together in one place in the windy city. Click the link below to get your ticket today!</p><br /></div><br /></div>\n\n</BODY>\n</HTML>

LOCATION:McCormick Place Lakeside Center, 2301, South DuSable Lake Shore Drive, Near South Side, Chicago, Cook County, Illinois, 60616, United States
END:VEVENT

END:VCALENDAR
