BEGIN:VCALENDAR
VERSION:2.0
PRODID:-//hacksw/handcal//NONSGML v1.0//EN
BEGIN:VEVENT
UID:f4ed73ae878d10a0ad21816c25ea0d2b
DTSTAMP:20260426T034335Z

DTSTART:20220808T100000
DTEND:20220810T170000
SUMMARY:AICPA & CIMA Cannabis Industry Conference
DESCRIPTION:Cultivate your knowledge with leading agriculture experts in the rapidly growing multi-billion dollar Cannabis industry.\nKey leaders in the field of cannabis are here to help you stay on top of the latest insider news, regulations and legislation.\nWhether you’re a seasoned practitioner or are looking to step foot in this booming industry, the AICPA &amp; CIMA Cannabis Industry Conference is a great opportunity to manage through the complex world of cannabis.\nYou’ll receive key support from industry leaders who will cover a variety of hot topics for you to gain confidence in operating your practice with new techniques:\n\nBest procedures around financial statement preparation and the SAFE Banking Act\nHow to raise money and pitch deck considerations for your practice\nSmall firm practice and key court case review\nProduct cultivation, processing and manufacturing\nBookkeeping, cost accounting, compliance and much more!\n\n 

X-ALT-DESC;FMTTYPE=text/html:<!DOCTYPE HTML PUBLIC "-//W3C//DTD HTML 3.2//EN">\n<HTML>\n<HEAD>\n<META NAME="Generator" CONTENT="MS Exchange Server version 08.00.0681.000">\n<TITLE></TITLE>\n</HEAD>\n<BODY>\n<!-- Converted from text/rtf format -->\n\n<p>Cultivate your knowledge with leading agriculture experts in the rapidly growing multi-billion dollar Cannabis industry.</p><br /><h3><span style="color: #000000;">Key leaders in the field of cannabis are here to help you stay on top of the latest insider news, regulations and legislation.</span></h3><br /><p>Whether you’re a seasoned practitioner or are looking to step foot in this booming industry, the AICPA &amp; CIMA Cannabis Industry Conference is a great opportunity to manage through the complex world of cannabis.</p><br /><p>You’ll receive key support from industry leaders who will cover a variety of hot topics for you to gain confidence in operating your practice with new techniques:</p><br /><ul><br /><li>Best procedures around financial statement preparation and the SAFE Banking Act</li><br /><li>How to raise money and pitch deck considerations for your practice</li><br /><li>Small firm practice and key court case review</li><br /><li>Product cultivation, processing and manufacturing</li><br /><li>Bookkeeping, cost accounting, compliance and much more!</li><br /></ul><br /><p> </p>\n\n</BODY>\n</HTML>

LOCATION:Grand Hyatt Denver, 1750, Welton Street, Central Business District, Denver, Colorado, 80202, United States
END:VEVENT

END:VCALENDAR
